BEGIN:VCALENDAR
VERSION:2.0
PRODID:-//Hugh Rowlands - ECPv6.15.20//NONSGML v1.0//EN
CALSCALE:GREGORIAN
METHOD:PUBLISH
X-WR-CALNAME:Hugh Rowlands
X-ORIGINAL-URL:https://hughrowlands.co.uk
X-WR-CALDESC:Events for Hugh Rowlands
REFRESH-INTERVAL;VALUE=DURATION:PT1H
X-Robots-Tag:noindex
X-PUBLISHED-TTL:PT1H
BEGIN:VTIMEZONE
TZID:UTC
BEGIN:STANDARD
TZOFFSETFROM:+0000
TZOFFSETTO:+0000
TZNAME:UTC
DTSTART:20240101T000000
END:STANDARD
END:VTIMEZONE
BEGIN:VEVENT
DTSTART;TZID=UTC:20250415T190000
DTEND;TZID=UTC:20250415T210000
DTSTAMP:20260422T044816
CREATED:20250310T191113Z
LAST-MODIFIED:20250310T191113Z
UID:305-1744743600-1744750800@hughrowlands.co.uk
SUMMARY:Songs of Eden – London Choral Sinfonia
DESCRIPTION:Programme: \nVasara Summertime – Onute Narbutaite \nand the swallow – Caroline Shaw \nTundra – Ola Gjeilo \nCloudburst – Eric Whitacre \nOut of Eden – Edward Picton-Turbervill \n\n  \nMichael Waldron Conductor \nHugh Rowlands Organ \nHannah Watson Emrich Piano \n  \nThe LCS presents a powerful programme of contemporary music celebrating planet earth. As a time of renewal and rebirth\, Easter provides the inspiration for this journey across musical lands and languages. \n\nFrom the Pacific coast and the music of Eric Whitacre\, to the East Coast composer Caroline Shaw\, across the globe to Norwegian Ola Gjeilo and on to Lithuanian-born Onute Narbutaite\, these rich and varied geographical landscapes are brought vividly to life by these contemporary composers. \nThe programme culminates with the premiere of British-born Edward Picton-Turbervill’s ‘Out of Eden’\, an epic multi-movement work which acknowledges and laments our impact on the planet. The piece will take the audience on a cathartic journey from grief and shame to a vision of hope for the future\, of a world made anew. \nThrough inspiring texts\, spectacular instrumentation\, and soundscapes inspired by the world around us\, this concert becomes a call to action – an expression of deep gratitude and love for the earth\, which inspires us to think more deeply about our collective roles and responsibilities in shaping its future.
URL:https://hughrowlands.co.uk/event/songs-of-eden-london-choral-sinfonia/
LOCATION:Sinfonia Smith Square\, London\, SW1P 3HA
ATTACH;FMTTYPE=image/jpeg:https://hughrowlands.co.uk/wp-content/uploads/2025/03/Sinfonia-Smith-Square-Organ.jpg
END:VEVENT
END:VCALENDAR