BEGIN:VCALENDAR
VERSION:2.0
PRODID:-//Hugh Rowlands - ECPv6.15.20//NONSGML v1.0//EN
CALSCALE:GREGORIAN
METHOD:PUBLISH
X-WR-CALNAME:Hugh Rowlands
X-ORIGINAL-URL:https://hughrowlands.co.uk
X-WR-CALDESC:Events for Hugh Rowlands
REFRESH-INTERVAL;VALUE=DURATION:PT1H
X-Robots-Tag:noindex
X-PUBLISHED-TTL:PT1H
BEGIN:VTIMEZONE
TZID:Europe/London
BEGIN:DAYLIGHT
TZOFFSETFROM:+0000
TZOFFSETTO:+0100
TZNAME:BST
DTSTART:20230326T010000
END:DAYLIGHT
BEGIN:STANDARD
TZOFFSETFROM:+0100
TZOFFSETTO:+0000
TZNAME:GMT
DTSTART:20231029T010000
END:STANDARD
BEGIN:DAYLIGHT
TZOFFSETFROM:+0000
TZOFFSETTO:+0100
TZNAME:BST
DTSTART:20240331T010000
END:DAYLIGHT
BEGIN:STANDARD
TZOFFSETFROM:+0100
TZOFFSETTO:+0000
TZNAME:GMT
DTSTART:20241027T010000
END:STANDARD
BEGIN:DAYLIGHT
TZOFFSETFROM:+0000
TZOFFSETTO:+0100
TZNAME:BST
DTSTART:20250330T010000
END:DAYLIGHT
BEGIN:STANDARD
TZOFFSETFROM:+0100
TZOFFSETTO:+0000
TZNAME:GMT
DTSTART:20251026T010000
END:STANDARD
END:VTIMEZONE
BEGIN:VTIMEZONE
TZID:UTC
BEGIN:STANDARD
TZOFFSETFROM:+0000
TZOFFSETTO:+0000
TZNAME:UTC
DTSTART:20230101T000000
END:STANDARD
END:VTIMEZONE
BEGIN:VEVENT
DTSTART;TZID=Europe/London:20241103T160000
DTEND;TZID=Europe/London:20241103T170000
DTSTAMP:20260421T182406
CREATED:20240926T133749Z
LAST-MODIFIED:20240926T150436Z
UID:223-1730649600-1730653200@hughrowlands.co.uk
SUMMARY:Organ Recital | St Marylebone Parish Church
DESCRIPTION:Hugh will be performing a recital at St Marylebone Parish Church on Sunday the 3rd of November.
URL:https://hughrowlands.co.uk/event/marylebone-organ-recital/
LOCATION:St Marylebone Parish Church\, St Marylebone Parish Church\, 17 Marylebone Road\, London\, NW1 5LT\, United Kingdom
CATEGORIES:Organ Recital
ATTACH;FMTTYPE=image/jpeg:https://hughrowlands.co.uk/wp-content/uploads/2024/09/hugh-rowlands-organist-pianist-conductor-musician-london-headshot4-blackandwhite.jpeg
END:VEVENT
BEGIN:VEVENT
DTSTART;TZID=UTC:20240912T133000
DTEND;TZID=UTC:20240912T141000
DTSTAMP:20260421T182406
CREATED:20240926T140511Z
LAST-MODIFIED:20240926T140511Z
UID:247-1726147800-1726150200@hughrowlands.co.uk
SUMMARY:Organ Recital | Truro Cathedral
DESCRIPTION:
URL:https://hughrowlands.co.uk/event/organ-recital-truro-cathedral/
LOCATION:Truro Cathedral\, Truro Cathedral\, Truro\, TR1 2AF\, United Kingdom
CATEGORIES:Organ Recital
END:VEVENT
BEGIN:VEVENT
DTSTART;TZID=UTC:20240910T131500
DTEND;TZID=UTC:20240910T140000
DTSTAMP:20260421T182406
CREATED:20240926T140316Z
LAST-MODIFIED:20240926T140316Z
UID:244-1725974100-1725976800@hughrowlands.co.uk
SUMMARY:Organ Recital | Hereford Cathedral
DESCRIPTION:
URL:https://hughrowlands.co.uk/event/organ-recital-hereford-cathedral/
LOCATION:Hereford Cathedral\, Hereford Cathedral\, Hereford\, Herefordshire\, HR1 2NG\, United Kingdom
CATEGORIES:Organ Recital
END:VEVENT
BEGIN:VEVENT
DTSTART;TZID=UTC:20240909T080000
DTEND;TZID=UTC:20240909T170000
DTSTAMP:20260421T182406
CREATED:20240926T135940Z
LAST-MODIFIED:20240926T135940Z
UID:241-1725868800-1725901200@hughrowlands.co.uk
SUMMARY:Organ Recital | Southwark Cathedral
DESCRIPTION:
URL:https://hughrowlands.co.uk/event/organ-recital-southwark-cathedral/
LOCATION:Southwark Cathedral\, Southwark Cathedral\, London\, SE1 6HR\, United Kingdom
CATEGORIES:Organ Recital
END:VEVENT
BEGIN:VEVENT
DTSTART;TZID=Europe/London:20240721T133000
DTEND;TZID=Europe/London:20240721T143000
DTSTAMP:20260421T182406
CREATED:20240926T135353Z
LAST-MODIFIED:20240926T135353Z
UID:235-1721568600-1721572200@hughrowlands.co.uk
SUMMARY:Piano & Violin Recital | Haileybury
DESCRIPTION:
URL:https://hughrowlands.co.uk/event/piano-violin-recital-haileybury/
LOCATION:Haileybury College
CATEGORIES:Piano Performance
END:VEVENT
BEGIN:VEVENT
DTSTART;TZID=UTC:20240629T180000
DTEND;TZID=UTC:20240629T193000
DTSTAMP:20260421T182406
CREATED:20240926T135536Z
LAST-MODIFIED:20240926T135536Z
UID:238-1719684000-1719689400@hughrowlands.co.uk
SUMMARY:James McVinnie Ensemble: American Minimalism
DESCRIPTION:
URL:https://hughrowlands.co.uk/event/james-mcvinnie-ensemble-american-minimalism/
LOCATION:Southbank Centre
END:VEVENT
END:VCALENDAR