BEGIN:VCALENDAR
VERSION:2.0
PRODID:-//Hugh Rowlands - ECPv6.15.20//NONSGML v1.0//EN
CALSCALE:GREGORIAN
METHOD:PUBLISH
X-WR-CALNAME:Hugh Rowlands
X-ORIGINAL-URL:https://hughrowlands.co.uk
X-WR-CALDESC:Events for Hugh Rowlands
REFRESH-INTERVAL;VALUE=DURATION:PT1H
X-Robots-Tag:noindex
X-PUBLISHED-TTL:PT1H
BEGIN:VTIMEZONE
TZID:UTC
BEGIN:STANDARD
TZOFFSETFROM:+0000
TZOFFSETTO:+0000
TZNAME:UTC
DTSTART:20250101T000000
END:STANDARD
END:VTIMEZONE
BEGIN:VEVENT
DTSTART;TZID=UTC:20260416T190000
DTEND;TZID=UTC:20260416T210000
DTSTAMP:20260421T180629
CREATED:20260307T141259Z
LAST-MODIFIED:20260307T141259Z
UID:312-1776366000-1776373200@hughrowlands.co.uk
SUMMARY:The 12 Ensemble: If You Love Me
DESCRIPTION:Hugh joins 12 Ensemble for ‘If You Love Me\,’ a programme exploring the spiritual\, the emotional\, and the sublime through profound string music. \nThe programme features two masterpieces that engage with memory and devotion: Tallis’s gentle anthem If ye love me and Vaughan Williams’s monumental Fantasia on a Theme of Thomas Tallis. The Fantasia is a breathtaking string soundscape that immerses the listener in reverence\, directly elaborating on Tallis’s original melody. \nThe mood shifts to dramatic contrasts: the sacred power of Bruckner’s Ecce Sacerdos Magnus offers solemn majesty\, while Oliver Leith’s Honey Siren provides modern intrigue with its alluring\, mysterious soundworld. \nFinally\, we come to Mahler’s iconic Adagietto from Symphony No. 5: this serene and deeply emotional movement\, often associated with a love letter to his wife Alma\, provides a breathtaking and unforgettable conclusion to the exploration of love’s powerful and enduring themes. \nExperience music that speaks to the heart\, brought to life by the 12 Ensemble.
URL:https://hughrowlands.co.uk/event/the-12-ensemble-if-you-love-me/
LOCATION:St Martin in the Fields\, Trafalgar Square\, London\, WC2N 4JJ\, United Kingdom
ATTACH;FMTTYPE=image/png:https://hughrowlands.co.uk/wp-content/uploads/2026/03/SMITF_300Yrs_logo_RGB_Medium.png
END:VEVENT
BEGIN:VEVENT
DTSTART;TZID=UTC:20260618T131500
DTEND;TZID=UTC:20260618T140000
DTSTAMP:20260421T180629
CREATED:20260307T142704Z
LAST-MODIFIED:20260307T142704Z
UID:324-1781788500-1781791200@hughrowlands.co.uk
SUMMARY:Organ Recital\, New College\, Oxford
DESCRIPTION:Trinity Term Organ Recital. Programme to be confirmed. \nphoto (c) John Cairns
URL:https://hughrowlands.co.uk/event/organ-recital-new-college-oxford/
LOCATION:New College\, Oxford
CATEGORIES:Organ Recital
ATTACH;FMTTYPE=image/jpeg:https://hughrowlands.co.uk/wp-content/uploads/2026/03/Hugh_Rowlands_by_John_Cairns_30.10.25-118-scaled.jpg
END:VEVENT
END:VCALENDAR